BEGIN:VCALENDAR
VERSION:2.0
PRODID:-//BWWellbeing - ECPv6.15.20//NONSGML v1.0//EN
CALSCALE:GREGORIAN
METHOD:PUBLISH
X-ORIGINAL-URL:https://bwwellbeing.com
X-WR-CALDESC:Events for BWWellbeing
REFRESH-INTERVAL;VALUE=DURATION:PT1H
X-Robots-Tag:noindex
X-PUBLISHED-TTL:PT1H
BEGIN:VTIMEZONE
TZID:America/Chicago
BEGIN:DAYLIGHT
TZOFFSETFROM:-0600
TZOFFSETTO:-0500
TZNAME:CDT
DTSTART:20210314T080000
END:DAYLIGHT
BEGIN:STANDARD
TZOFFSETFROM:-0500
TZOFFSETTO:-0600
TZNAME:CST
DTSTART:20211107T070000
END:STANDARD
BEGIN:DAYLIGHT
TZOFFSETFROM:-0600
TZOFFSETTO:-0500
TZNAME:CDT
DTSTART:20220313T080000
END:DAYLIGHT
BEGIN:STANDARD
TZOFFSETFROM:-0500
TZOFFSETTO:-0600
TZNAME:CST
DTSTART:20221106T070000
END:STANDARD
BEGIN:DAYLIGHT
TZOFFSETFROM:-0600
TZOFFSETTO:-0500
TZNAME:CDT
DTSTART:20230312T080000
END:DAYLIGHT
BEGIN:STANDARD
TZOFFSETFROM:-0500
TZOFFSETTO:-0600
TZNAME:CST
DTSTART:20231105T070000
END:STANDARD
END:VTIMEZONE
BEGIN:VEVENT
DTSTART;TZID=America/Chicago:20221012T113000
DTEND;TZID=America/Chicago:20221012T123000
DTSTAMP:20260422T101947
CREATED:20220118T153157Z
LAST-MODIFIED:20220118T153157Z
UID:2573-1665574200-1665577800@bwwellbeing.com
SUMMARY:ComPsych Webinar: Secrets to Self-Motivation
DESCRIPTION:We can do anything we set our minds to. But sometimes it can feel like our brains are working against us when it comes to achieving our goals. Plans to learn a new skill\, to get in shape or to save money keep getting pushed back in the hopes that the Future You will handle it “someday.” Your attitude and beliefs about your likelihood of success can predict whether you succeed. If you actively keep your internal motivation high\, you can significantly increase the likelihood of achieving your hopes\, dreams and visions of your future. \n  \nRegister for October 12 Webinar \n  \nEarn 50 Vitality Points for watching!
URL:https://bwwellbeing.com/event/compsych-webinar-secrets-to-self-motivation/
CATEGORIES:Webinars
END:VEVENT
BEGIN:VEVENT
DTSTART;TZID=America/Chicago:20221025T113000
DTEND;TZID=America/Chicago:20221025T123000
DTSTAMP:20260422T101947
CREATED:20220118T153330Z
LAST-MODIFIED:20220118T153330Z
UID:2575-1666697400-1666701000@bwwellbeing.com
SUMMARY:ComPsych Webinar: The Impact of Attitude on Work and Life
DESCRIPTION:While you obviously need the appropriate knowledge and skills to do your job\, the mindset with which you approach your work plays a dominant role in your ability to perform. This workshop will help participants explore how attitude can change their life and will provide them with opportunities to develop a more positive mindset. \n  \nRegister for October 25 Webinar \n  \nEarn 50 Vitality Points for watching!
URL:https://bwwellbeing.com/event/compsych-webinar-the-impact-of-attitude-on-work-and-life/
CATEGORIES:Webinars
END:VEVENT
END:VCALENDAR