BEGIN:VCALENDAR
VERSION:2.0
PRODID:-//BWWellbeing - ECPv6.15.20//NONSGML v1.0//EN
CALSCALE:GREGORIAN
METHOD:PUBLISH
X-ORIGINAL-URL:https://bwwellbeing.com
X-WR-CALDESC:Events for BWWellbeing
REFRESH-INTERVAL;VALUE=DURATION:PT1H
X-Robots-Tag:noindex
X-PUBLISHED-TTL:PT1H
BEGIN:VTIMEZONE
TZID:America/Chicago
BEGIN:DAYLIGHT
TZOFFSETFROM:-0600
TZOFFSETTO:-0500
TZNAME:CDT
DTSTART:20210314T080000
END:DAYLIGHT
BEGIN:STANDARD
TZOFFSETFROM:-0500
TZOFFSETTO:-0600
TZNAME:CST
DTSTART:20211107T070000
END:STANDARD
BEGIN:DAYLIGHT
TZOFFSETFROM:-0600
TZOFFSETTO:-0500
TZNAME:CDT
DTSTART:20220313T080000
END:DAYLIGHT
BEGIN:STANDARD
TZOFFSETFROM:-0500
TZOFFSETTO:-0600
TZNAME:CST
DTSTART:20221106T070000
END:STANDARD
BEGIN:DAYLIGHT
TZOFFSETFROM:-0600
TZOFFSETTO:-0500
TZNAME:CDT
DTSTART:20230312T080000
END:DAYLIGHT
BEGIN:STANDARD
TZOFFSETFROM:-0500
TZOFFSETTO:-0600
TZNAME:CST
DTSTART:20231105T070000
END:STANDARD
END:VTIMEZONE
BEGIN:VEVENT
DTSTART;TZID=America/Chicago:20220810T113000
DTEND;TZID=America/Chicago:20220810T123000
DTSTAMP:20260422T071621
CREATED:20220118T152246Z
LAST-MODIFIED:20220118T152246Z
UID:2565-1660131000-1660134600@bwwellbeing.com
SUMMARY:ComPsych Webinar: Healthy Lifestyle: Changing the Way You Think About Diet and Exercise
DESCRIPTION:It seems that every week a new study is published on the best way to control weight and increase fitness through changes in diet and exercise. This workshop provides an overview of safe and effective strategies to improve overall fitness through manageable changes in diet and exercise. \n  \nRegister for August 10 Webinar \n  \nEarn 50 Vitality Points for watching!
URL:https://bwwellbeing.com/event/compsych-webinar-healthy-lifestyle-changing-the-way-you-think-about-diet-and-exercise/
CATEGORIES:Webinars
END:VEVENT
BEGIN:VEVENT
DTSTART;TZID=America/Chicago:20220825T113000
DTEND;TZID=America/Chicago:20220825T123000
DTSTAMP:20260422T071621
CREATED:20220118T152604Z
LAST-MODIFIED:20220118T152604Z
UID:2567-1661427000-1661430600@bwwellbeing.com
SUMMARY:ComPsych Webinar: Motivating Change in Others
DESCRIPTION:How do you help someone who is struck or ambivalent about making an important change in their life? Do you give them advice? Do you argue or debate them to persuade them make a change? Do you become frustrated when those strategies fail and then accuse them of being foolish? We can respectfully engage others to help them make changes through careful listening and by allowing the other person to identify their own priorities and motivations. The key communication skills addressed in this session are adapted from Motivational Interviewing and involve asking open questions\, affirming\, reflecting and summarizing in order to help someone move from ambivalence to action. \n  \nRegister for August 25 Webinar \n  \nEarn 50 Vitality Points for watching!
URL:https://bwwellbeing.com/event/compsych-webinar-motivating-change-in-others/
CATEGORIES:Webinars
END:VEVENT
END:VCALENDAR