BEGIN:VCALENDAR
VERSION:2.0
PRODID:-//BWWellbeing - ECPv6.15.20//NONSGML v1.0//EN
CALSCALE:GREGORIAN
METHOD:PUBLISH
X-ORIGINAL-URL:https://bwwellbeing.com
X-WR-CALDESC:Events for BWWellbeing
REFRESH-INTERVAL;VALUE=DURATION:PT1H
X-Robots-Tag:noindex
X-PUBLISHED-TTL:PT1H
BEGIN:VTIMEZONE
TZID:America/Chicago
BEGIN:DAYLIGHT
TZOFFSETFROM:-0600
TZOFFSETTO:-0500
TZNAME:CDT
DTSTART:20210314T080000
END:DAYLIGHT
BEGIN:STANDARD
TZOFFSETFROM:-0500
TZOFFSETTO:-0600
TZNAME:CST
DTSTART:20211107T070000
END:STANDARD
BEGIN:DAYLIGHT
TZOFFSETFROM:-0600
TZOFFSETTO:-0500
TZNAME:CDT
DTSTART:20220313T080000
END:DAYLIGHT
BEGIN:STANDARD
TZOFFSETFROM:-0500
TZOFFSETTO:-0600
TZNAME:CST
DTSTART:20221106T070000
END:STANDARD
BEGIN:DAYLIGHT
TZOFFSETFROM:-0600
TZOFFSETTO:-0500
TZNAME:CDT
DTSTART:20230312T080000
END:DAYLIGHT
BEGIN:STANDARD
TZOFFSETFROM:-0500
TZOFFSETTO:-0600
TZNAME:CST
DTSTART:20231105T070000
END:STANDARD
END:VTIMEZONE
BEGIN:VEVENT
DTSTART;TZID=America/Chicago:20220413T113000
DTEND;TZID=America/Chicago:20220413T123000
DTSTAMP:20260422T003738
CREATED:20220118T150242Z
LAST-MODIFIED:20220118T150242Z
UID:2549-1649849400-1649853000@bwwellbeing.com
SUMMARY:ComPsych Webinar: 10 Strategies for Improving Your Finances
DESCRIPTION:The current economic climate brings both challenges and opportunities from a financial perspective. You may wonder during these challenging times: “What should I be most careful about” and “What should my family and I work towards?” The 10 financial tips discussed in this workshop will get you on the road to financial well-being during challenging times. \n  \nRegister for April 13 Webinar \n  \nEarn 50 Vitality Points for watching!
URL:https://bwwellbeing.com/event/compsych-webinar-10-strategies-for-improving-your-finances-2/
CATEGORIES:Webinars
END:VEVENT
BEGIN:VEVENT
DTSTART;TZID=America/Chicago:20220428T113000
DTEND;TZID=America/Chicago:20220428T123000
DTSTAMP:20260422T003738
CREATED:20220118T150403Z
LAST-MODIFIED:20220118T150403Z
UID:2551-1651145400-1651149000@bwwellbeing.com
SUMMARY:ComPsych Webinar: Mental Health Awareness
DESCRIPTION:At one time or another\, everyone experiences symptoms of mental illness. Too frequently the response to such symptoms in the workplace is confusion\, fear\, judgement\, avoidance and outright rejection. This leads to a worsening of symptoms and a deterioration of performance. This training is designed to reduce the stigma associated with mental illness and to promote ways of supporting one another in the workplace. The session will address signs and symptoms of distress and effective ways of providing support for co-workers. The training will also include exercises to develop these skills. \n  \nRegister for April 28 Webinar \n  \nEarn 50 Vitality Points for watching!
URL:https://bwwellbeing.com/event/compsych-webinar-mental-health-awareness-3/
CATEGORIES:Webinars
END:VEVENT
END:VCALENDAR