BEGIN:VCALENDAR
VERSION:2.0
PRODID:-//BWWellbeing - ECPv6.15.20//NONSGML v1.0//EN
CALSCALE:GREGORIAN
METHOD:PUBLISH
X-WR-CALNAME:BWWellbeing
X-ORIGINAL-URL:https://bwwellbeing.com
X-WR-CALDESC:Events for BWWellbeing
REFRESH-INTERVAL;VALUE=DURATION:PT1H
X-Robots-Tag:noindex
X-PUBLISHED-TTL:PT1H
BEGIN:VTIMEZONE
TZID:America/Chicago
BEGIN:DAYLIGHT
TZOFFSETFROM:-0600
TZOFFSETTO:-0500
TZNAME:CDT
DTSTART:20210314T080000
END:DAYLIGHT
BEGIN:STANDARD
TZOFFSETFROM:-0500
TZOFFSETTO:-0600
TZNAME:CST
DTSTART:20211107T070000
END:STANDARD
BEGIN:DAYLIGHT
TZOFFSETFROM:-0600
TZOFFSETTO:-0500
TZNAME:CDT
DTSTART:20220313T080000
END:DAYLIGHT
BEGIN:STANDARD
TZOFFSETFROM:-0500
TZOFFSETTO:-0600
TZNAME:CST
DTSTART:20221106T070000
END:STANDARD
BEGIN:DAYLIGHT
TZOFFSETFROM:-0600
TZOFFSETTO:-0500
TZNAME:CDT
DTSTART:20230312T080000
END:DAYLIGHT
BEGIN:STANDARD
TZOFFSETFROM:-0500
TZOFFSETTO:-0600
TZNAME:CST
DTSTART:20231105T070000
END:STANDARD
END:VTIMEZONE
BEGIN:VEVENT
DTSTART;TZID=America/Chicago:20220316T113000
DTEND;TZID=America/Chicago:20220316T123000
DTSTAMP:20260421T230447
CREATED:20220118T145724Z
LAST-MODIFIED:20220118T145724Z
UID:2545-1647430200-1647433800@bwwellbeing.com
SUMMARY:ComPsych Webinar: Happiness: A Key to Life's Satisfaction
DESCRIPTION:Why do some people seem happy and others just seem miserable all the time? Science suggests that each person has a range in their capacity to experience happiness and that range is different for each person. However\, it is possible to live our lives in the upper end of that range if we apply ourselves and follow certain principles. This training incorporates a brief happiness questionnaire\, a description of the various factors associated with happiness and concludes with a substantive discussion of specific ways to increase your happiness potential. \n  \nRegister for March 16 Webinar \n  \nEarn 50 Vitality Points for watching!
URL:https://bwwellbeing.com/event/compsych-webinar-happiness-a-key-to-lifes-satisfaction/
CATEGORIES:Webinars
END:VEVENT
BEGIN:VEVENT
DTSTART;TZID=America/Chicago:20220331T113000
DTEND;TZID=America/Chicago:20220331T123000
DTSTAMP:20260421T230447
CREATED:20220118T150055Z
LAST-MODIFIED:20220118T150055Z
UID:2547-1648726200-1648729800@bwwellbeing.com
SUMMARY:ComPsych Webinar: Overcoming Procrastination
DESCRIPTION:Procrastination is rampant in today’s business world. Pushing important tasks and projects off until later can cause emotional anguish and keep you from accomplishing professional and personal goals. This workshop will provide you with techniques and strategies to overcome procrastination in your work and personal life. \n  \nRegister for March 31 Webinar \n  \nEarn 50 Vitality Points for watching!
URL:https://bwwellbeing.com/event/compsych-webinar-overcoming-procrastination/
CATEGORIES:Webinars
END:VEVENT
END:VCALENDAR