BEGIN:VCALENDAR
VERSION:2.0
PRODID:-//BWWellbeing - ECPv6.15.20//NONSGML v1.0//EN
CALSCALE:GREGORIAN
METHOD:PUBLISH
X-WR-CALNAME:BWWellbeing
X-ORIGINAL-URL:https://bwwellbeing.com
X-WR-CALDESC:Events for BWWellbeing
REFRESH-INTERVAL;VALUE=DURATION:PT1H
X-Robots-Tag:noindex
X-PUBLISHED-TTL:PT1H
BEGIN:VTIMEZONE
TZID:America/Chicago
BEGIN:DAYLIGHT
TZOFFSETFROM:-0600
TZOFFSETTO:-0500
TZNAME:CDT
DTSTART:20210314T080000
END:DAYLIGHT
BEGIN:STANDARD
TZOFFSETFROM:-0500
TZOFFSETTO:-0600
TZNAME:CST
DTSTART:20211107T070000
END:STANDARD
BEGIN:DAYLIGHT
TZOFFSETFROM:-0600
TZOFFSETTO:-0500
TZNAME:CDT
DTSTART:20220313T080000
END:DAYLIGHT
BEGIN:STANDARD
TZOFFSETFROM:-0500
TZOFFSETTO:-0600
TZNAME:CST
DTSTART:20221106T070000
END:STANDARD
BEGIN:DAYLIGHT
TZOFFSETFROM:-0600
TZOFFSETTO:-0500
TZNAME:CDT
DTSTART:20230312T080000
END:DAYLIGHT
BEGIN:STANDARD
TZOFFSETFROM:-0500
TZOFFSETTO:-0600
TZNAME:CST
DTSTART:20231105T070000
END:STANDARD
END:VTIMEZONE
BEGIN:VEVENT
DTSTART;VALUE=DATE:20220104
DTEND;VALUE=DATE:20220105
DTSTAMP:20260421T194258
CREATED:20211207T195724Z
LAST-MODIFIED:20211207T195724Z
UID:2499-1641254400-1641340799@bwwellbeing.com
SUMMARY:It's time to get up and moving in 2022! It's the first day of the Let's Get Moving Workout Challenge!
DESCRIPTION:Still interested in joining a team? Email bwwellbeing@barry-wehmiller.com with the name of the team you’d like to join and if there are spots remaining\, we’ll invite you to the challenge! To complete your registration for the team: login to Vitality\, click on the envelope in the upper right hand corner\, click on the message stating you’ve been added to a team\, click on the Let’s Get Moving link within the message\, and then accept the rules of the road to get started!
URL:https://bwwellbeing.com/event/its-time-to-get-up-and-moving-in-2022-its-the-first-day-of-the-lets-get-moving-workout-challenge/
CATEGORIES:Challenge
END:VEVENT
BEGIN:VEVENT
DTSTART;VALUE=DATE:20220117
DTEND;VALUE=DATE:20220118
DTSTAMP:20260421T194258
CREATED:20211207T195954Z
LAST-MODIFIED:20211207T195954Z
UID:2501-1642377600-1642463999@bwwellbeing.com
SUMMARY:How are those workouts coming along? We're halfway through the Let's Get Moving Workout Challenge!
DESCRIPTION:Want to see how your team is stacking up against the competition? Login to Vitality\, hover over Community\, and then click on My Challenges.
URL:https://bwwellbeing.com/event/how-are-those-workouts-coming-along-were-halfway-through-the-lets-get-moving-workout-challenge/
CATEGORIES:Challenge
END:VEVENT
BEGIN:VEVENT
DTSTART;TZID=America/Chicago:20220119T113000
DTEND;TZID=America/Chicago:20220119T123000
DTSTAMP:20260421T194258
CREATED:20220118T144655Z
LAST-MODIFIED:20220118T144754Z
UID:2536-1642591800-1642595400@bwwellbeing.com
SUMMARY:ComPsych Webinar: Preventing Employee Burnout
DESCRIPTION:Burnout is a growing concern for many employers\, as it can impact morale\, employee retention\, work productivity and more. In this session\, we describe the signals that leaders can watch for and introduce strategies to help them prevent burnout from impacting the workforce. \n  \nRegister for January 19 webinar \n  \nEarn 50 Vitality Points for watching!
URL:https://bwwellbeing.com/event/compsych-webinar-preventing-employee-burnout/
CATEGORIES:Webinars
END:VEVENT
BEGIN:VEVENT
DTSTART;TZID=America/Chicago:20220125T113000
DTEND;TZID=America/Chicago:20220125T123000
DTSTAMP:20260421T194258
CREATED:20220118T144927Z
LAST-MODIFIED:20220118T144927Z
UID:2539-1643110200-1643113800@bwwellbeing.com
SUMMARY:ComPsych Webinar: The Art of Patience
DESCRIPTION:Many of us are impatient at times. And when we lose control of our patience it hurts not only us\, but those around us. Impatience raises our stress levels and over time can even inflict physical harm to our bodies. You see examples of impatience and patience throughout each day; when you’re stuck in traffic\, when you’re waiting in line for the grocery store\, and when your children are taking too long to get ready for school in the morning. Even if you don’t rate your own level of personal patience as being very high\, the good news is that with practice\, you too can learn to be more patient in your life. \n  \nRegister for January 25 Webinar \n  \nEarn 50 Vitality Points for watching!
URL:https://bwwellbeing.com/event/compsych-webinar-the-art-of-patience/
CATEGORIES:Webinars
END:VEVENT
BEGIN:VEVENT
DTSTART;VALUE=DATE:20220131
DTEND;VALUE=DATE:20220201
DTSTAMP:20260421T194258
CREATED:20211207T200159Z
LAST-MODIFIED:20211207T200159Z
UID:2503-1643587200-1643673599@bwwellbeing.com
SUMMARY:That's a wrap! It's the last day of the Let's Get Moving Workout Challenge!
DESCRIPTION:Make sure to sync your device by 9pm CST on Friday\, February 11 to ensure that all of your hard work counts toward your team’s workout total. The winner of the challenge will be announced on Tuesday\, February 15.
URL:https://bwwellbeing.com/event/thats-a-wrap-its-the-last-day-of-the-lets-get-moving-workout-challenge/
CATEGORIES:Challenge
END:VEVENT
END:VCALENDAR