BEGIN:VCALENDAR
VERSION:2.0
PRODID:-//BWWellbeing - ECPv6.15.20//NONSGML v1.0//EN
CALSCALE:GREGORIAN
METHOD:PUBLISH
X-ORIGINAL-URL:https://bwwellbeing.com
X-WR-CALDESC:Events for BWWellbeing
REFRESH-INTERVAL;VALUE=DURATION:PT1H
X-Robots-Tag:noindex
X-PUBLISHED-TTL:PT1H
BEGIN:VTIMEZONE
TZID:America/Chicago
BEGIN:DAYLIGHT
TZOFFSETFROM:-0600
TZOFFSETTO:-0500
TZNAME:CDT
DTSTART:20200308T080000
END:DAYLIGHT
BEGIN:STANDARD
TZOFFSETFROM:-0500
TZOFFSETTO:-0600
TZNAME:CST
DTSTART:20201101T070000
END:STANDARD
BEGIN:DAYLIGHT
TZOFFSETFROM:-0600
TZOFFSETTO:-0500
TZNAME:CDT
DTSTART:20210314T080000
END:DAYLIGHT
BEGIN:STANDARD
TZOFFSETFROM:-0500
TZOFFSETTO:-0600
TZNAME:CST
DTSTART:20211107T070000
END:STANDARD
BEGIN:DAYLIGHT
TZOFFSETFROM:-0600
TZOFFSETTO:-0500
TZNAME:CDT
DTSTART:20220313T080000
END:DAYLIGHT
BEGIN:STANDARD
TZOFFSETFROM:-0500
TZOFFSETTO:-0600
TZNAME:CST
DTSTART:20221106T070000
END:STANDARD
END:VTIMEZONE
BEGIN:VEVENT
DTSTART;TZID=America/Chicago:20211201T113000
DTEND;TZID=America/Chicago:20211201T123000
DTSTAMP:20260421T180512
CREATED:20210121T050756Z
LAST-MODIFIED:20210121T050756Z
UID:2368-1638358200-1638361800@bwwellbeing.com
SUMMARY:ComPsych Webinar: Paying Off Debt While Building Wealth
DESCRIPTION:In difficult economic times\, many people are struggling to just keep up with monthly bills\, let alone make progress on debt repayment. What suffers most is contributing to savings and investing goals. This session will focus on developing financial plans and strategies to address the dual goals of having a plan for paying off debt\, while also contributing to building personal wealth. This session covers the basics (or essentials) of each area and describes practical techniques that can help you to formulate your own plan to manage your personal finances to organize a sensible debt repayment plan without sacrificing other financial goals. \n  \nRegister for December 1 Webinar \n  \nEarn 50 Vitality points for watching!
URL:https://bwwellbeing.com/event/compsych-webinar-paying-off-debt-while-building-wealth/
CATEGORIES:Webinars
END:VEVENT
BEGIN:VEVENT
DTSTART;VALUE=DATE:20211206
DTEND;VALUE=DATE:20211207
DTSTAMP:20260421T180512
CREATED:20211207T194527Z
LAST-MODIFIED:20211207T194527Z
UID:2497-1638748800-1638835199@bwwellbeing.com
SUMMARY:Registration for the Let's Get Moving Workout Challenge Begins!
DESCRIPTION:Register in Vitality from December 6th-January 3rd. \n  \nTo complete your registration for the team\, login to Vitality\, visit the Challenges page under the Community tab\, select the Let’s Get Moving Workout Challenge\, and accept the Rules of the Road to get started!
URL:https://bwwellbeing.com/event/registration-for-the-lets-get-moving-workout-challenge-begins/
CATEGORIES:Challenge
END:VEVENT
BEGIN:VEVENT
DTSTART;TZID=America/Chicago:20211216T113000
DTEND;TZID=America/Chicago:20211216T123000
DTSTAMP:20260421T180512
CREATED:20210121T051058Z
LAST-MODIFIED:20210121T051058Z
UID:2370-1639654200-1639657800@bwwellbeing.com
SUMMARY:ComPsych Webinar: Bringing Out the Best in Others
DESCRIPTION:Whether in your personal or your professional life\, are you the kind of person that brings out the best in others? Do people shine around you \, or do they tend to withdraw\, hesitant to show their best? Some people seem to have a knack for challenging\, motivating and inspiring their friends\, family members and co-workers. In this workshop\, you’ll learn how to do your part to make sure others are at their best around you. \n  \nRegister for December 16 Webinar \n  \nEarn 50 Vitality points for watching!
URL:https://bwwellbeing.com/event/compsych-webinar-bringing-out-the-best-in-others/
CATEGORIES:Webinars
END:VEVENT
END:VCALENDAR