BEGIN:VCALENDAR
VERSION:2.0
PRODID:-//BWWellbeing - ECPv6.15.20//NONSGML v1.0//EN
CALSCALE:GREGORIAN
METHOD:PUBLISH
X-ORIGINAL-URL:https://bwwellbeing.com
X-WR-CALDESC:Events for BWWellbeing
REFRESH-INTERVAL;VALUE=DURATION:PT1H
X-Robots-Tag:noindex
X-PUBLISHED-TTL:PT1H
BEGIN:VTIMEZONE
TZID:America/Chicago
BEGIN:DAYLIGHT
TZOFFSETFROM:-0600
TZOFFSETTO:-0500
TZNAME:CDT
DTSTART:20200308T080000
END:DAYLIGHT
BEGIN:STANDARD
TZOFFSETFROM:-0500
TZOFFSETTO:-0600
TZNAME:CST
DTSTART:20201101T070000
END:STANDARD
BEGIN:DAYLIGHT
TZOFFSETFROM:-0600
TZOFFSETTO:-0500
TZNAME:CDT
DTSTART:20210314T080000
END:DAYLIGHT
BEGIN:STANDARD
TZOFFSETFROM:-0500
TZOFFSETTO:-0600
TZNAME:CST
DTSTART:20211107T070000
END:STANDARD
BEGIN:DAYLIGHT
TZOFFSETFROM:-0600
TZOFFSETTO:-0500
TZNAME:CDT
DTSTART:20220313T080000
END:DAYLIGHT
BEGIN:STANDARD
TZOFFSETFROM:-0500
TZOFFSETTO:-0600
TZNAME:CST
DTSTART:20221106T070000
END:STANDARD
END:VTIMEZONE
BEGIN:VEVENT
DTSTART;TZID=America/Chicago:20210908T113000
DTEND;TZID=America/Chicago:20210908T123000
DTSTAMP:20260421T195528
CREATED:20210121T044534Z
LAST-MODIFIED:20210121T044534Z
UID:2356-1631100600-1631104200@bwwellbeing.com
SUMMARY:ComPsych Webinar: How to Receive Criticism and Make It Work for You
DESCRIPTION:Receiving criticism is an important and valuable skill. To achieve success in any endeavor we must be able to tolerate critical feedback and learn from it. However\, receiving criticism is difficult for most people. Upon receiving criticism we feel vulnerable and become defensive and thereby miss opportunities to benefit from feedback. This workshop will help you explore why we become defensive\, deliver tips for knowing when your “hot button” has been pushed and how to accept and integrate useful criticism. The training will also instruct through examples and/or role plays. \n  \nRegister for September 8 Webinar \n  \nEarn 50 Vitality points for watching!
URL:https://bwwellbeing.com/event/compsych-webinar-how-to-receive-criticism-and-make-it-work-for-you/
CATEGORIES:Webinars
END:VEVENT
BEGIN:VEVENT
DTSTART;VALUE=DATE:20210913
DTEND;VALUE=DATE:20210914
DTSTAMP:20260421T195528
CREATED:20210729T130734Z
LAST-MODIFIED:20210729T130734Z
UID:2428-1631491200-1631577599@bwwellbeing.com
SUMMARY:Did you sync your device? Today's the last day to ensure your workouts are counted in the August Divisional Workout Challenge.
DESCRIPTION:
URL:https://bwwellbeing.com/event/did-you-sync-your-device-todays-the-last-day-to-ensure-your-workouts-are-counted-in-the-august-divisional-workout-challenge/
END:VEVENT
BEGIN:VEVENT
DTSTART;TZID=America/Chicago:20210923T113000
DTEND;TZID=America/Chicago:20210923T123000
DTSTAMP:20260421T195528
CREATED:20210121T044843Z
LAST-MODIFIED:20210121T044843Z
UID:2358-1632396600-1632400200@bwwellbeing.com
SUMMARY:ComPsych Webinar: Awakening the Passion in Your Life
DESCRIPTION:Do you admire people who always seem excited and passionate about what they do? Whether it’s in their personal life\, professional life\, or both\, some people are able to bring passion into their lives\, while others struggle to find that spark to really get them going. Do you want to wake up every morning with great anticipation about what the day will bring? This workshop is about looking within yourself to find the “buttons” to push to bring out your passion. \n  \nRegister for September 23 Webinar \n  \nEarn 50 Vitality points for watching!
URL:https://bwwellbeing.com/event/compsych-webinar-awakening-the-passion-in-your-life/
CATEGORIES:Webinars
END:VEVENT
BEGIN:VEVENT
DTSTART;VALUE=DATE:20210930
DTEND;VALUE=DATE:20211001
DTSTAMP:20260421T195528
CREATED:20201012T200634Z
LAST-MODIFIED:20201012T200634Z
UID:2261-1632960000-1633046399@bwwellbeing.com
SUMMARY:End of Wellbeing Program Year
DESCRIPTION:Today is the last day to complete any of the below actions in order to earn your Better You Incentive for 2022! Requirements include the following: \n\nRegister and Get Connected to MyQHealth (one time requirement\, if you earned the incentive for 2021 this would have already been completed)\nDesignate your Primary Care Physician in MyQHealth (one time requirement\, if you earned the incentive for 2021 this would have already been completed)\nGet your Annual Physical\nComplete all Age and Gender Appropriate Screenings\nReach GOLD status or higher in Vitality\n\n  \nComplete the above actions by September 30th\, 2021 (and ensure that your spouse does as well if they are on our medical plan!) and you will receive reduced medical rates in 2022! \n  \nQuestions? Refer to the YOUtilities guide or email bwwellbeing@barry-wehmiller.com.
URL:https://bwwellbeing.com/event/end-of-wellbeing-program-year/
ORGANIZER;CN="BW Wellbeing":MAILTO:bwwellbeing@barry-wehmiller.com
END:VEVENT
END:VCALENDAR