BEGIN:VCALENDAR
VERSION:2.0
PRODID:-//BWWellbeing - ECPv6.15.20//NONSGML v1.0//EN
CALSCALE:GREGORIAN
METHOD:PUBLISH
X-ORIGINAL-URL:https://bwwellbeing.com
X-WR-CALDESC:Events for BWWellbeing
REFRESH-INTERVAL;VALUE=DURATION:PT1H
X-Robots-Tag:noindex
X-PUBLISHED-TTL:PT1H
BEGIN:VTIMEZONE
TZID:America/Chicago
BEGIN:DAYLIGHT
TZOFFSETFROM:-0600
TZOFFSETTO:-0500
TZNAME:CDT
DTSTART:20200308T080000
END:DAYLIGHT
BEGIN:STANDARD
TZOFFSETFROM:-0500
TZOFFSETTO:-0600
TZNAME:CST
DTSTART:20201101T070000
END:STANDARD
BEGIN:DAYLIGHT
TZOFFSETFROM:-0600
TZOFFSETTO:-0500
TZNAME:CDT
DTSTART:20210314T080000
END:DAYLIGHT
BEGIN:STANDARD
TZOFFSETFROM:-0500
TZOFFSETTO:-0600
TZNAME:CST
DTSTART:20211107T070000
END:STANDARD
BEGIN:DAYLIGHT
TZOFFSETFROM:-0600
TZOFFSETTO:-0500
TZNAME:CDT
DTSTART:20220313T080000
END:DAYLIGHT
BEGIN:STANDARD
TZOFFSETFROM:-0500
TZOFFSETTO:-0600
TZNAME:CST
DTSTART:20221106T070000
END:STANDARD
END:VTIMEZONE
BEGIN:VEVENT
DTSTART;TZID=America/Chicago:20210804T113000
DTEND;TZID=America/Chicago:20210804T123000
DTSTAMP:20260421T212910
CREATED:20210121T043824Z
LAST-MODIFIED:20210121T043824Z
UID:2352-1628076600-1628080200@bwwellbeing.com
SUMMARY:ComPsych Webinar: Mental Fitness for Optimal Brain Power
DESCRIPTION:For a long time\, the scientific community believed we were born with a certain number of brain cells and neural pathways and that\, once damaged\, they could not be repaired. In reality\, our brains are much more flexible. Depending on our lifestyle\, we can weaken or destroy connections\, or create new\, stronger ones. Engaging regularly in certain behaviors and activities\, like physical exercise\, addressing mental health issues\, medication\, and learning a new language or instrument\, support new wiring and can make existing pathways stronger. Essentially\, we can slow down or somewhat prevent cognitive decline by doing challenging mental exercises to keep our brains fit for optimal power. \n  \nRegister for August 4 Webinar \n  \nEarn 50 Vitality points for watching!
URL:https://bwwellbeing.com/event/compsych-webinar-mental-fitness-for-optimal-brain-power/
CATEGORIES:Webinars
END:VEVENT
BEGIN:VEVENT
DTSTART;VALUE=DATE:20210809
DTEND;VALUE=DATE:20210810
DTSTAMP:20260421T212910
CREATED:20210729T130337Z
LAST-MODIFIED:20210729T131223Z
UID:2421-1628467200-1628553599@bwwellbeing.com
SUMMARY:Let's end the BW Wellbeing Program Year STRONG! It's the first day of the August Divisional Workout Challenge!
DESCRIPTION:Still interested in joining your divisional team? To complete your registration for the team: login to Vitality\, visit the Challenges page under the Community tab\, select the August Divisional Workout Challenge\, and accept the rules of the road to get started!
URL:https://bwwellbeing.com/event/lets-end-the-bw-wellbeing-program-year-strong-its-the-first-day-of-the-august-divisional-workout-challenge/
END:VEVENT
BEGIN:VEVENT
DTSTART;VALUE=DATE:20210819
DTEND;VALUE=DATE:20210820
DTSTAMP:20260421T212910
CREATED:20210729T130520Z
LAST-MODIFIED:20210729T130520Z
UID:2424-1629331200-1629417599@bwwellbeing.com
SUMMARY:How are those workouts going? We're halfway through the August Divisional Workout Challenge!
DESCRIPTION:Want to see how your team is stacking up against the competition? Login to Vitality\, hover over Community\, and then click on My Challenges.
URL:https://bwwellbeing.com/event/how-are-those-workouts-going-were-halfway-through-the-august-divisional-workout-challenge/
END:VEVENT
BEGIN:VEVENT
DTSTART;TZID=America/Chicago:20210819T113000
DTEND;TZID=America/Chicago:20210819T123000
DTSTAMP:20260421T212910
CREATED:20210121T044132Z
LAST-MODIFIED:20210121T044132Z
UID:2354-1629372600-1629376200@bwwellbeing.com
SUMMARY:ComPsych Webinar: Teenage Rebellion
DESCRIPTION:For parents\, the phrase “teenage rebellion” can induce a range of emotions from intense fear to disappointment. At its extreme\, rebellion can include things like running away from home\, abusing drugs and engaging in other very dangerous activities. Less extreme examples of teenage rebellion include skipping classes and missing curfew. In almost all cases\, parents are left feeling helpless and frustrated\, looking for answers to the question: How can I regain control of my child? \n  \nRegister for August 19 Webinar \n  \nEarn 50 Vitality points for watching!
URL:https://bwwellbeing.com/event/compsych-webinar-teenage-rebellion/
CATEGORIES:Webinars
END:VEVENT
BEGIN:VEVENT
DTSTART;VALUE=DATE:20210831
DTEND;VALUE=DATE:20210901
DTSTAMP:20260421T212910
CREATED:20210729T130642Z
LAST-MODIFIED:20210729T131350Z
UID:2426-1630368000-1630454399@bwwellbeing.com
SUMMARY:That's a wrap! It's the last day of the August Divisional Workout Challenge!
DESCRIPTION:Make sure to sync your device by Monday\, September 13 to ensure that all of your hard work counts toward your team’s workout total. The winner of the challenge will be announced on Wednesday\, September 15.
URL:https://bwwellbeing.com/event/thats-a-wrap-its-the-last-day-of-the-august-divisional-workout-challenge/
END:VEVENT
END:VCALENDAR