BEGIN:VCALENDAR
VERSION:2.0
PRODID:-//BWWellbeing - ECPv6.15.20//NONSGML v1.0//EN
CALSCALE:GREGORIAN
METHOD:PUBLISH
X-WR-CALNAME:BWWellbeing
X-ORIGINAL-URL:https://bwwellbeing.com
X-WR-CALDESC:Events for BWWellbeing
REFRESH-INTERVAL;VALUE=DURATION:PT1H
X-Robots-Tag:noindex
X-PUBLISHED-TTL:PT1H
BEGIN:VTIMEZONE
TZID:America/Chicago
BEGIN:DAYLIGHT
TZOFFSETFROM:-0600
TZOFFSETTO:-0500
TZNAME:CDT
DTSTART:20200308T080000
END:DAYLIGHT
BEGIN:STANDARD
TZOFFSETFROM:-0500
TZOFFSETTO:-0600
TZNAME:CST
DTSTART:20201101T070000
END:STANDARD
BEGIN:DAYLIGHT
TZOFFSETFROM:-0600
TZOFFSETTO:-0500
TZNAME:CDT
DTSTART:20210314T080000
END:DAYLIGHT
BEGIN:STANDARD
TZOFFSETFROM:-0500
TZOFFSETTO:-0600
TZNAME:CST
DTSTART:20211107T070000
END:STANDARD
BEGIN:DAYLIGHT
TZOFFSETFROM:-0600
TZOFFSETTO:-0500
TZNAME:CDT
DTSTART:20220313T080000
END:DAYLIGHT
BEGIN:STANDARD
TZOFFSETFROM:-0500
TZOFFSETTO:-0600
TZNAME:CST
DTSTART:20221106T070000
END:STANDARD
END:VTIMEZONE
BEGIN:VEVENT
DTSTART;VALUE=DATE:20210601
DTEND;VALUE=DATE:20210602
DTSTAMP:20260422T003640
CREATED:20210510T202654Z
LAST-MODIFIED:20210510T202654Z
UID:2392-1622505600-1622591999@bwwellbeing.com
SUMMARY:Let's Stay Strong This Summer! It's the first day of the June Steps Challenge!
DESCRIPTION:
URL:https://bwwellbeing.com/event/lets-stay-strong-this-summer-its-the-first-day-of-the-june-steps-challenge/
CATEGORIES:Challenge
END:VEVENT
BEGIN:VEVENT
DTSTART;TZID=America/Chicago:20210608T113000
DTEND;TZID=America/Chicago:20210608T123000
DTSTAMP:20260422T003640
CREATED:20210121T042541Z
LAST-MODIFIED:20210121T042541Z
UID:2344-1623151800-1623155400@bwwellbeing.com
SUMMARY:ComPsych Webinar: Tools to Handle Stress
DESCRIPTION:This Stress Management course focuses on specific\, practical activities to reduce stress. Whatever happens to be causing your stress\, these techniques can help you cope. \n  \nRegister for June 8 Webinar \n  \nEarn 50 Vitality points for watching!
URL:https://bwwellbeing.com/event/compsych-webinar-tools-to-handle-stress/
CATEGORIES:Webinars
END:VEVENT
BEGIN:VEVENT
DTSTART;VALUE=DATE:20210615
DTEND;VALUE=DATE:20210616
DTSTAMP:20260422T003640
CREATED:20210510T202958Z
LAST-MODIFIED:20210510T202958Z
UID:2394-1623715200-1623801599@bwwellbeing.com
SUMMARY:Are you steppin up to the challenge? We're halfway through the June Steps Challenge!
DESCRIPTION:Want to see how your team is stacking up against the competition? Login to Vitality\, hover over Community\, and then click on My Challenges.
URL:https://bwwellbeing.com/event/are-you-steppin-up-to-the-challenge-were-halfway-through-the-june-steps-challenge/
CATEGORIES:Challenge
END:VEVENT
BEGIN:VEVENT
DTSTART;TZID=America/Chicago:20210623T113000
DTEND;TZID=America/Chicago:20210623T123000
DTSTAMP:20260422T003640
CREATED:20210121T042859Z
LAST-MODIFIED:20210121T042859Z
UID:2346-1624447800-1624451400@bwwellbeing.com
SUMMARY:ComPsych Webinar: Improving Your Memory
DESCRIPTION:Our ability to remember things is one of the most useful tools we have in our work and home lives but the amount of things we are trying to remember at once can sometimes be overwhelming. What do you do if you have a bad memory? The truth is\, most people don’t have bad memories\, they just haven’t learned how to use their memory efficiently. Memory is a skill\, and like any skill\, with practice it can be developed and improved. This workshop offers participants tips and tools for improving their memory skills. \n  \nRegister for June 23 Webinar  \n  \nEarn 50 Vitality points for watching!
URL:https://bwwellbeing.com/event/compsych-webinar-improving-your-memory/
CATEGORIES:Webinars
END:VEVENT
BEGIN:VEVENT
DTSTART;VALUE=DATE:20210630
DTEND;VALUE=DATE:20210701
DTSTAMP:20260422T003640
CREATED:20210510T203929Z
LAST-MODIFIED:20210510T204622Z
UID:2396-1625011200-1625097599@bwwellbeing.com
SUMMARY:That's a wrap! It's the last day of the June Steps Challenge!
DESCRIPTION:Make sure to sync your device by Monday\, July 12th to ensure that all of your hard work counts toward your team’s step total. The winner of the challenge will be announced on Friday\, July 16th.
URL:https://bwwellbeing.com/event/thats-a-wrap-its-the-last-day-of-the-june-steps-challenge/
CATEGORIES:Challenge
END:VEVENT
END:VCALENDAR