BEGIN:VCALENDAR
VERSION:2.0
PRODID:-//BWWellbeing - ECPv6.15.20//NONSGML v1.0//EN
CALSCALE:GREGORIAN
METHOD:PUBLISH
X-ORIGINAL-URL:https://bwwellbeing.com
X-WR-CALDESC:Events for BWWellbeing
REFRESH-INTERVAL;VALUE=DURATION:PT1H
X-Robots-Tag:noindex
X-PUBLISHED-TTL:PT1H
BEGIN:VTIMEZONE
TZID:America/Chicago
BEGIN:DAYLIGHT
TZOFFSETFROM:-0600
TZOFFSETTO:-0500
TZNAME:CDT
DTSTART:20200308T080000
END:DAYLIGHT
BEGIN:STANDARD
TZOFFSETFROM:-0500
TZOFFSETTO:-0600
TZNAME:CST
DTSTART:20201101T070000
END:STANDARD
BEGIN:DAYLIGHT
TZOFFSETFROM:-0600
TZOFFSETTO:-0500
TZNAME:CDT
DTSTART:20210314T080000
END:DAYLIGHT
BEGIN:STANDARD
TZOFFSETFROM:-0500
TZOFFSETTO:-0600
TZNAME:CST
DTSTART:20211107T070000
END:STANDARD
BEGIN:DAYLIGHT
TZOFFSETFROM:-0600
TZOFFSETTO:-0500
TZNAME:CDT
DTSTART:20220313T080000
END:DAYLIGHT
BEGIN:STANDARD
TZOFFSETFROM:-0500
TZOFFSETTO:-0600
TZNAME:CST
DTSTART:20221106T070000
END:STANDARD
END:VTIMEZONE
BEGIN:VEVENT
DTSTART;VALUE=DATE:20210510
DTEND;VALUE=DATE:20210511
DTSTAMP:20260422T022313
CREATED:20210510T202135Z
LAST-MODIFIED:20210510T202135Z
UID:2388-1620604800-1620691199@bwwellbeing.com
SUMMARY:Registration for the June Steps Challenge Begins!
DESCRIPTION:Register in Vitality from May 10th-May 31st. \n  \nTo complete your registration for the team\, login to Vitality\, visit the Challenges page under the Community tab\, select the June Steps Challenge\, and accept the rules of the road to get started!
URL:https://bwwellbeing.com/event/registration-for-the-june-steps-challenge-begins/
CATEGORIES:Challenge
END:VEVENT
BEGIN:VEVENT
DTSTART;TZID=America/Chicago:20210513T113000
DTEND;TZID=America/Chicago:20210513T123000
DTSTAMP:20260422T022313
CREATED:20210121T042008Z
LAST-MODIFIED:20210121T042008Z
UID:2340-1620905400-1620909000@bwwellbeing.com
SUMMARY:ComPsych Webinar: Mental Health Awareness
DESCRIPTION:At one time or another\, everyone experiences symptoms of mental illness. Too frequently the response to such symptoms in the workplace is confusion\, fear\, judgement\, avoidance and outright rejection. This leads to a worsening of symptoms and a deterioration of performance. This training is designed to reduce the stigma associated with mental illness and to promote ways of supporting one another in the workplace. The session will address signs and symptoms of distress and effective ways of providing support for co-workers. The training also will include exercises to develop these skills. \n  \nRegister for May 13 Webinar \n  \nEarn 50 Vitality points for watching!
URL:https://bwwellbeing.com/event/compsych-webinar-mental-health-awareness-2/
CATEGORIES:Webinars
END:VEVENT
BEGIN:VEVENT
DTSTART;TZID=America/Chicago:20210526T113000
DTEND;TZID=America/Chicago:20210526T123000
DTSTAMP:20260422T022313
CREATED:20210121T042340Z
LAST-MODIFIED:20210121T042340Z
UID:2342-1622028600-1622032200@bwwellbeing.com
SUMMARY:ComPsych Webinar: Managing Worry and Anxiety
DESCRIPTION:Worries are thoughts we have about the future that generate fear. They arrive in the form of a “what if?” and generate dire warnings about terrible consequences that await us. Unfortunately\, these warnings we give ourselves are generally overblown and focused on hypothetical problems that probably won’t happen. Chronic worry that begins to impact the quality of life becomes “anxiety” and well-intended suggestions to “stop worrying” or applying common stress management techniques are mostly ineffective. This training will address how worry habits develop and methods of intervening with worry and anxiety. \n  \nRegister for May 26 Webinar \n  \nEarn 50 Vitality points for watching!
URL:https://bwwellbeing.com/event/compsych-webinar-managing-worry-and-anxiety/
CATEGORIES:Webinars
END:VEVENT
BEGIN:VEVENT
DTSTART;VALUE=DATE:20210531
DTEND;VALUE=DATE:20210601
DTSTAMP:20260422T022313
CREATED:20210510T202433Z
LAST-MODIFIED:20210510T202433Z
UID:2390-1622419200-1622505599@bwwellbeing.com
SUMMARY:Registration for the June Steps Challenge Ends!
DESCRIPTION:Today is the last day for you to register for the June Steps Challenge! \n  \nTo complete your registration for the team\, login to Vitality\, visit the Challenges page under the Community tab\, select the June Steps Challenge\, and accept the rules of the road to get started!
URL:https://bwwellbeing.com/event/registration-for-the-june-steps-challenge-ends/
CATEGORIES:Challenge
END:VEVENT
END:VCALENDAR