BEGIN:VCALENDAR
VERSION:2.0
PRODID:-//BWWellbeing - ECPv6.15.20//NONSGML v1.0//EN
CALSCALE:GREGORIAN
METHOD:PUBLISH
X-WR-CALNAME:BWWellbeing
X-ORIGINAL-URL:https://bwwellbeing.com
X-WR-CALDESC:Events for BWWellbeing
REFRESH-INTERVAL;VALUE=DURATION:PT1H
X-Robots-Tag:noindex
X-PUBLISHED-TTL:PT1H
BEGIN:VTIMEZONE
TZID:America/Chicago
BEGIN:DAYLIGHT
TZOFFSETFROM:-0600
TZOFFSETTO:-0500
TZNAME:CDT
DTSTART:20190310T080000
END:DAYLIGHT
BEGIN:STANDARD
TZOFFSETFROM:-0500
TZOFFSETTO:-0600
TZNAME:CST
DTSTART:20191103T070000
END:STANDARD
BEGIN:DAYLIGHT
TZOFFSETFROM:-0600
TZOFFSETTO:-0500
TZNAME:CDT
DTSTART:20200308T080000
END:DAYLIGHT
BEGIN:STANDARD
TZOFFSETFROM:-0500
TZOFFSETTO:-0600
TZNAME:CST
DTSTART:20201101T070000
END:STANDARD
BEGIN:DAYLIGHT
TZOFFSETFROM:-0600
TZOFFSETTO:-0500
TZNAME:CDT
DTSTART:20210314T080000
END:DAYLIGHT
BEGIN:STANDARD
TZOFFSETFROM:-0500
TZOFFSETTO:-0600
TZNAME:CST
DTSTART:20211107T070000
END:STANDARD
END:VTIMEZONE
BEGIN:VEVENT
DTSTART;TZID=America/Chicago:20201203T113000
DTEND;TZID=America/Chicago:20201203T123000
DTSTAMP:20260422T105358
CREATED:20201012T194756Z
LAST-MODIFIED:20201012T194756Z
UID:2253-1606995000-1606998600@bwwellbeing.com
SUMMARY:ComPsych Webinar: Making the Most of Family Occasions
DESCRIPTION:This workshop is for parents interested in creating less stressful\, more pleasant and meaningful family events for their children. \n  \nRegister for December 3 Webinar \n  \nEarn 50 Vitality points for watching!
URL:https://bwwellbeing.com/event/compsych-webinar-making-the-most-of-family-occasions/
END:VEVENT
BEGIN:VEVENT
DTSTART;VALUE=DATE:20201207
DTEND;VALUE=DATE:20201208
DTSTAMP:20260422T105358
CREATED:20201203T163303Z
LAST-MODIFIED:20201203T163303Z
UID:2290-1607299200-1607385599@bwwellbeing.com
SUMMARY:Registration for the January Workout Challenge Begins!
DESCRIPTION:Register in Vitality from December 7th-January 3rd. \n  \nTo complete your registration for the team\, login to Vitality\, visit the Challenges page under the Community tab\, select the January 2021 Workout Challenge\, and accept the rules of the road to get started!
URL:https://bwwellbeing.com/event/registration-for-the-january-workout-challenge-begins/
END:VEVENT
BEGIN:VEVENT
DTSTART;TZID=America/Chicago:20201215T113000
DTEND;TZID=America/Chicago:20201215T123000
DTSTAMP:20260422T105358
CREATED:20201012T195022Z
LAST-MODIFIED:20201012T195108Z
UID:2255-1608031800-1608035400@bwwellbeing.com
SUMMARY:ComPsych Webinar: Rewards and Challenges of the Blended Family
DESCRIPTION:With more than half of all marriages ending in divorce\, and the majority of divorced individuals finding new partners\, the number of blended families is growing. This type of situation can create a range of challenging issues\, both practical and emotional. Patience\, understanding and open communication can help make the transition smoother for everyone. \n  \nRegister for December 15 Webinar \n  \nEarn 50 Vitality points for watching!
URL:https://bwwellbeing.com/event/compsych-webinar-rewards-and-challenges-of-the-blended-family/
END:VEVENT
END:VCALENDAR