BEGIN:VCALENDAR
VERSION:2.0
PRODID:-//BWWellbeing - ECPv6.15.20//NONSGML v1.0//EN
CALSCALE:GREGORIAN
METHOD:PUBLISH
X-WR-CALNAME:BWWellbeing
X-ORIGINAL-URL:https://bwwellbeing.com
X-WR-CALDESC:Events for BWWellbeing
REFRESH-INTERVAL;VALUE=DURATION:PT1H
X-Robots-Tag:noindex
X-PUBLISHED-TTL:PT1H
BEGIN:VTIMEZONE
TZID:America/Chicago
BEGIN:DAYLIGHT
TZOFFSETFROM:-0600
TZOFFSETTO:-0500
TZNAME:CDT
DTSTART:20190310T080000
END:DAYLIGHT
BEGIN:STANDARD
TZOFFSETFROM:-0500
TZOFFSETTO:-0600
TZNAME:CST
DTSTART:20191103T070000
END:STANDARD
BEGIN:DAYLIGHT
TZOFFSETFROM:-0600
TZOFFSETTO:-0500
TZNAME:CDT
DTSTART:20200308T080000
END:DAYLIGHT
BEGIN:STANDARD
TZOFFSETFROM:-0500
TZOFFSETTO:-0600
TZNAME:CST
DTSTART:20201101T070000
END:STANDARD
BEGIN:DAYLIGHT
TZOFFSETFROM:-0600
TZOFFSETTO:-0500
TZNAME:CDT
DTSTART:20210314T080000
END:DAYLIGHT
BEGIN:STANDARD
TZOFFSETFROM:-0500
TZOFFSETTO:-0600
TZNAME:CST
DTSTART:20211107T070000
END:STANDARD
END:VTIMEZONE
BEGIN:VEVENT
DTSTART;VALUE=DATE:20201001
DTEND;VALUE=DATE:20201002
DTSTAMP:20260422T142245
CREATED:20201012T200334Z
LAST-MODIFIED:20201012T200418Z
UID:2258-1601510400-1601596799@bwwellbeing.com
SUMMARY:Start of Wellbeing Program Year
DESCRIPTION:Today is the first day to begin working toward earning your Better You Incentive for 2022! Requirements include the following: \n\nRegister and Get Connected to MyQHealth (one time requirement\, if you earned the incentive for 2021 this would have already been completed)\nDesignate your Primary Care Physician in MyQHealth (one time requirement\, if you earned the incentive for 2021 this would have already been completed)\nGet your Annual Physical\nComplete all Age and Gender Appropriate Screenings\nReach GOLD status or higher in Vitality\n\n  \nComplete the above actions by September 30th\, 2021 (and ensure that your spouse does as well if they are on our medical plan!) and you will receive reduced medical rates in 2022! \n  \nQuestions? Refer to the YOUtilities guide or email bwwellbeing@barry-wehmiller.com.
URL:https://bwwellbeing.com/event/start-of-wellbeing-program-year/
ORGANIZER;CN="BW Wellbeing":MAILTO:bwwellbeing@barry-wehmiller.com
END:VEVENT
BEGIN:VEVENT
DTSTART;TZID=America/Chicago:20201029T113000
DTEND;TZID=America/Chicago:20201029T123000
DTSTAMP:20260422T142245
CREATED:20201012T193649Z
LAST-MODIFIED:20201012T193841Z
UID:2244-1603971000-1603974600@bwwellbeing.com
SUMMARY:ComPsych Webinar: Let's Talk Politics: How to Have Impassioned Disagreements Without Damaging Relationships
DESCRIPTION:Instead of allowing political discussions to destroy relationships\, what if we could use these conversations to examine our own beliefs\, look at facts and find common ground? \n  \nRegister for October 29 Webinar \n  \nEarn 50 Vitality points for watching!
URL:https://bwwellbeing.com/event/compsych-webinar-lets-talk-politics-how-to-have-impassioned-disagreements-without-damaging-relationships/
END:VEVENT
END:VCALENDAR